BEGIN:VCALENDAR
VERSION:2.0
PRODID:-//Zappendorf Müllerdorf Köllme - ECPv6.15.20//NONSGML v1.0//EN
CALSCALE:GREGORIAN
METHOD:PUBLISH
X-ORIGINAL-URL:https://zappendorf.info
X-WR-CALDESC:Veranstaltungen für Zappendorf Müllerdorf Köllme
REFRESH-INTERVAL;VALUE=DURATION:PT1H
X-Robots-Tag:noindex
X-PUBLISHED-TTL:PT1H
BEGIN:VTIMEZONE
TZID:Europe/Berlin
BEGIN:DAYLIGHT
TZOFFSETFROM:+0100
TZOFFSETTO:+0200
TZNAME:CEST
DTSTART:20230326T010000
END:DAYLIGHT
BEGIN:STANDARD
TZOFFSETFROM:+0200
TZOFFSETTO:+0100
TZNAME:CET
DTSTART:20231029T010000
END:STANDARD
BEGIN:DAYLIGHT
TZOFFSETFROM:+0100
TZOFFSETTO:+0200
TZNAME:CEST
DTSTART:20240331T010000
END:DAYLIGHT
BEGIN:STANDARD
TZOFFSETFROM:+0200
TZOFFSETTO:+0100
TZNAME:CET
DTSTART:20241027T010000
END:STANDARD
BEGIN:DAYLIGHT
TZOFFSETFROM:+0100
TZOFFSETTO:+0200
TZNAME:CEST
DTSTART:20250330T010000
END:DAYLIGHT
BEGIN:STANDARD
TZOFFSETFROM:+0200
TZOFFSETTO:+0100
TZNAME:CET
DTSTART:20251026T010000
END:STANDARD
END:VTIMEZONE
BEGIN:VEVENT
DTSTART;TZID=Europe/Berlin:20241215T130000
DTEND;TZID=Europe/Berlin:20241215T180000
DTSTAMP:20260421T021236
CREATED:20241125T204544Z
LAST-MODIFIED:20241125T204544Z
UID:10000414-1734267600-1734285600@zappendorf.info
SUMMARY:Köllmer Weihnachtsmarkt
DESCRIPTION:Die KiTa Köllme lädt ein zum Weihnachtsmarkt mit vielen Überraschungen….
URL:https://zappendorf.info/termin/koellmer-weihnachtsmarkt/
LOCATION:KiTa Köllme\, Salzmünder Landstraße\, Salzatal\, 06198\, Deutschland
ATTACH;FMTTYPE=image/jpeg:https://zappendorf.info/wp-content/uploads/Koellmer_weihnachtsmarkt.jpg
ORGANIZER;CN="KiTa 'Max & Moritz' K%C3%B6llme":MAILTO:kita.koellme@gemeinde-salzatal.de
END:VEVENT
END:VCALENDAR