BEGIN:VCALENDAR
VERSION:2.0
PRODID:-//Zappendorf Müllerdorf Köllme - ECPv6.15.20//NONSGML v1.0//EN
CALSCALE:GREGORIAN
METHOD:PUBLISH
X-ORIGINAL-URL:https://zappendorf.info
X-WR-CALDESC:Veranstaltungen für Zappendorf Müllerdorf Köllme
REFRESH-INTERVAL;VALUE=DURATION:PT1H
X-Robots-Tag:noindex
X-PUBLISHED-TTL:PT1H
BEGIN:VTIMEZONE
TZID:Europe/Berlin
BEGIN:DAYLIGHT
TZOFFSETFROM:+0100
TZOFFSETTO:+0200
TZNAME:CEST
DTSTART:20250330T010000
END:DAYLIGHT
BEGIN:STANDARD
TZOFFSETFROM:+0200
TZOFFSETTO:+0100
TZNAME:CET
DTSTART:20251026T010000
END:STANDARD
BEGIN:DAYLIGHT
TZOFFSETFROM:+0100
TZOFFSETTO:+0200
TZNAME:CEST
DTSTART:20260329T010000
END:DAYLIGHT
BEGIN:STANDARD
TZOFFSETFROM:+0200
TZOFFSETTO:+0100
TZNAME:CET
DTSTART:20261025T010000
END:STANDARD
BEGIN:DAYLIGHT
TZOFFSETFROM:+0100
TZOFFSETTO:+0200
TZNAME:CEST
DTSTART:20270328T010000
END:DAYLIGHT
BEGIN:STANDARD
TZOFFSETFROM:+0200
TZOFFSETTO:+0100
TZNAME:CET
DTSTART:20271031T010000
END:STANDARD
END:VTIMEZONE
BEGIN:VEVENT
DTSTART;TZID=Europe/Berlin:20260501T150000
DTEND;TZID=Europe/Berlin:20260501T180000
DTSTAMP:20260424T165724
CREATED:20260423T163412Z
LAST-MODIFIED:20260423T165913Z
UID:10000640-1777647600-1777658400@zappendorf.info
SUMMARY:Saisonstart der Zappendorfer Besenwirtschaft auf dem BERGHOF
DESCRIPTION:01.05.2026 bis 04.10.2026 ab 15:00 Uhr \nZur Aufrechterhaltung und Förderung des kulturellen Lebens und des traditionellen Brauchtums in Salzatal veranstaltet der BERGHOF in Zappendorf auch in diesem Jahr eine Besenwirtschaft. \nEingeladen wird von Mai bis Juni und von Mitte August bis Anfang Oktober 2026 jeweils Samstag und Sonntag und an Feiertagen zum geselligen Beisammensein bei hausgemachtem Wein\, Kaffee und Kuchen zu moderaten Preisen. Höhepunkt der ersten Jahreshälfte soll ein musikalisches Programm mit Händelmusik zum 23. Zappendorfer Händel Weinblütenfest werden.
URL:https://zappendorf.info/termin/saisonstart-der-zappendorfer-besenwirtschaft-auf-dem-berghof/
LOCATION:Berghof Zappendorf\, Bergstraße 21\, Salzatal\, OT Zappendorf\, 06198
ATTACH;FMTTYPE=image/jpeg:https://zappendorf.info/wp-content/uploads/2026_Besenwirtschadft.jpg
ORGANIZER;CN="Berghof Zappendorf":MAILTO:zisenis@berghof-zappendorf.de
END:VEVENT
BEGIN:VEVENT
DTSTART;TZID=Europe/Berlin:20260523T150000
DTEND;TZID=Europe/Berlin:20260523T180000
DTSTAMP:20260424T165724
CREATED:20260423T164255Z
LAST-MODIFIED:20260423T165828Z
UID:10000641-1779548400-1779559200@zappendorf.info
SUMMARY:Tag des Weines am St. Urbans-Tag
DESCRIPTION:23.05.2026 bis 25.05.2026 von 15:00 Uhr bis 18:00 Uhr \nIm Rahmen seiner Besenwirtschaft bietet der BERGHOF in Zappendorf zum diesjährigen Pfingstwochenende eine Informationsveranstaltung rund um den Wein und den Weinheiligen St. Urban an. Dabei besteht die Möglichkeit\, die im Entstehen befindliche Hofkellerei zu besichtigen und Weine verschiedener Geschmacksrichtungen kennen zu lernen.
URL:https://zappendorf.info/termin/tag-des-weines-am-st-urbans-tag/
LOCATION:Berghof Zappendorf\, Bergstraße 21\, Salzatal\, OT Zappendorf\, 06198
ATTACH;FMTTYPE=image/jpeg:https://zappendorf.info/wp-content/uploads/2026_Wein.jpg
ORGANIZER;CN="Berghof Zappendorf":MAILTO:zisenis@berghof-zappendorf.de
END:VEVENT
BEGIN:VEVENT
DTSTART;TZID=Europe/Berlin:20260606T150000
DTEND;TZID=Europe/Berlin:20260606T180000
DTSTAMP:20260424T165724
CREATED:20260423T164910Z
LAST-MODIFIED:20260423T164946Z
UID:10000642-1780758000-1780768800@zappendorf.info
SUMMARY:Hessischer Tag zum Welt-Apfelwein-Tag
DESCRIPTION:06.06.2026 bis 07.06.2026 von 15:00 Uhr bis 18:00 Uhr \nAnlässlich des diesjährigen Welt-Apfelwein-Tags veranstaltet der BERGHOF in Zappendorf am 6. und 7. Juni 2026 einen Hessischen Tag. Nach traditioneller Art wird der Apfelwein aus dem Krug eingeschenkt und nach Bedarf süß oder sauer ‚gespritzt‘. Dazu werden landestypische Speisen wie Obatzda und Handkäs mit Musi angeboten. Besenwirt Mathias informiert gern zum Apfelwein und den vom BERGHOF angebauten Apfelsorten und möchte mit musikalischen Einlagen für passende Stimmung und Unterhaltung sorgen.
URL:https://zappendorf.info/termin/hessischer-tag-zum-welt-apfelwein-tag/
LOCATION:Berghof Zappendorf\, Bergstraße 21\, Salzatal\, OT Zappendorf\, 06198
ATTACH;FMTTYPE=image/jpeg:https://zappendorf.info/wp-content/uploads/2026_Apfelwein.jpg
ORGANIZER;CN="Berghof Zappendorf":MAILTO:zisenis@berghof-zappendorf.de
END:VEVENT
BEGIN:VEVENT
DTSTART;TZID=Europe/Berlin:20260613T100000
DTEND;TZID=Europe/Berlin:20260613T180000
DTSTAMP:20260424T165724
CREATED:20260423T165726Z
LAST-MODIFIED:20260423T170200Z
UID:10000643-1781344800-1781373600@zappendorf.info
SUMMARY:BERGHOF-Programm zum 23. Zappendorfer Händel Weinblütenfest
DESCRIPTION:Der BERGHOF unterstützt das 23. Zappendorfer Händel Weinblütenfest 2026. \nZum neuen Format des Zappendorfer Händel Weinblütenfests öffnen mehrere touristische Orte in\nZappendorf ab 10:00 Uhr für Besucher; so auch die Besenwirtschaft auf dem BERGHOF. \nZum 23. Zappendorfer Händel Weinblütenfest am 13. Juni 2026 öffnet die Besenwirtschaft auf dem BERGHOF an der Bergstraße 21 in Zappendorf bereits früh um 10:00 Uhr und lädt zum Frühschoppen mit Hauswein und Musik von Händel. \nAlmut und Franziska Wolfart\, Musikerinnen aus der Familie\, werden kleine Musikstücke von Händel vortragen und die Sängerin Ulrike Kleint vom Nachbarhof zu kurzen Händel-Liedern begleiten. Das Vorspiel ist vormittags um 10:30 Uhr und 11:30 Uhr vorgesehen. Für spätere Besucher und Kaffee-Gäste soll um 15:30 Uhr ein weitere Darbietung erfolgen. Bei Bedarf unterhalten die Musikerinnen gerne auch zu anderen Zeiten die Besucher des BERGHOFs. Zu diesem besonderen Ereignis stellt die Besenwirtschaft zusätzliche Sitzgelegenheiten bereit und öffnet vor dem Zugang zur Kellerei eine zweite Getränkeausgabe. So sollen eine entspannte Atmosphäre erreicht und langes Anstehen vermieden werden. \nAndreas Wolfart und Mathias Zisenis vom BERGHOF freuen sich auf regen Besuch zum Händel Weinblütenfest und wünschen allen Festbesuchern einen ereignisreichen Tag in Zappendorf.
URL:https://zappendorf.info/termin/berghof-programm-zum-23-zappendorfer-haendel-weinbluetenfest/
LOCATION:Berghof Zappendorf\, Bergstraße 21\, Salzatal\, OT Zappendorf\, 06198
ATTACH;FMTTYPE=image/jpeg:https://zappendorf.info/wp-content/uploads/2026_Haendel.jpg
ORGANIZER;CN="Berghof Zappendorf":MAILTO:zisenis@berghof-zappendorf.de
END:VEVENT
END:VCALENDAR